Workbook

Sheet Summary
B1: Dwellings | C1: Economic Case Addendum Table 4-17 (reference) | D1: Bourn Airfield only | E1: House prices adjusted down | F1: Lower house price growth | G1: Bourn Airfield only and lower house price growth | H1: Nil house price growth | I1: Bourn Airfield only with house prices adjusted | J1: Bourn Airfield only with house prices adjusted & nil future growth
A2: Dwellings and percentage counted as additional
A3: Cambourne West | B3: 2350 | C3: 0.28 | D3: 0 | E3: 0.28 | F3: 0.28 | G3: 0 | H3: 0.28 | I3: 0 | J3: 0
A4: Bourn Airfield | B4: 3500 | C4: 0.69 | D4: 0.69 | E4: 0.69 | F4: 0.69 | G4: 0.69 | H4: 0.69 | I4: 0.69 | J4: 0.69
A5: Total additionality | C5: {=SUM($B3:$B4*C3:C4)} -> 3073 | D5: {=SUM($B3:$B4*D3:D4)} -> 2415 | E5: {=SUM($B3:$B4*E3:E4)} -> 3073 | F5: {=SUM($B3:$B4*F3:F4)} -> 3073 | G5: {=SUM($B3:$B4*G3:G4)} -> 2415 | H5: {=SUM($B3:$B4*H3:H4)} -> 3073 | I5: {=SUM($B3:$B4*I3:I4)} -> 2415 | J5: {=SUM($B3:$B4*J3:J4)} -> 2415
A6: Percentage difference from reference | D6: =D5/$C$5 - 1 -> -0.21412301 | E6: =E5/$C$5 - 1 -> 0 | F6: =F5/$C$5 - 1 -> 0 | G6: =G5/$C$5 - 1 -> -0.21412301 | H6: =H5/$C$5 - 1 -> 0 | I6: =I5/$C$5 - 1 -> -0.21412301 | J6: =J5/$C$5 - 1 -> -0.21412301
A8: Dwelling prices
A9: Average dwelling price in 2024 | C9: 506051 | D9: 506051 | E9: 423245 | F9: 506051 | G9: 506051 | H9: 506051 | I9: 423245 | J9: 423245
A10: Difference from reference | D10: =D9/$C$9 - 1 -> 0 | E10: =E9/$C$9 - 1 -> -0.16363173 | F10: =F9/$C$9 - 1 -> 0 | G10: =G9/$C$9 - 1 -> 0 | H10: =H9/$C$9 - 1 -> 0 | I10: =I9/$C$9 - 1 -> -0.16363173 | J10: =J9/$C$9 - 1 -> -0.16363173
A12: Future real annual growth in house prices | C12: 0.022 | D12: 0.022 | E12: 0.022 | F12: 0.0085 | G12: 0.0085 | H12: 0 | I12: 0.022 | J12: 0
A14: GDV
A15: GDV in 2010 prices and values | C15: 672.07 | D15: =$C15*(1+D$6) * (1+D$10) -> 528.16435 | E15: =$C15*(1+E$6) * (1+E$10) -> 562.09802 | F15: =GDV!N30 / 1000000 -> 566.67822 | G15: =GDV!T30 / 1000000 -> 430.98351 | H15: =GDV!Z30 / 1000000 -> 509.22345 | I15: =$C15*(1+I$6) * (1+I$10) -> 441.7399 | J15: =GDV!AF30 / 1000000 -> 320.43856
A16: GDV per dwelling | C16: =1000000 * C15/C5 -> 218701.59 | D16: =1000000 * D15/D5 -> 218701.59 | E16: =1000000 * E15/E5 -> 182915.07 | F16: =1000000 * F15/F5 -> 184405.54 | G16: =1000000 * G15/G5 -> 178461.08 | H16: =1000000 * H15/H5 -> 165708.9 | I16: =1000000 * I15/I5 -> 182915.07 | J16: =1000000 * J15/J5 -> 132686.77
A18: Build costs
A19: Adjustment to GDV-aportioned costs | B19: 0.31 | D19: =$C20 * $B$19 * (D16-$C16)/$C16 -> -5.9050242e-12 | E19: =$C20 * $B$19 * (E16-$C16)/$C16 -> 7260.909 | F19: =$C20 * $B$19 * (F16-$C16)/$C16 -> 6958.5013 | G19: =$C20 * $B$19 * (G16-$C16)/$C16 -> 8164.6029 | H19: =$C20 * $B$19 * (H16-$C16)/$C16 -> 10751.957 | I19: =$C20 * $B$19 * (I16-$C16)/$C16 -> 7260.909 | J19: =$C20 * $B$19 * (J16-$C16)/$C16 -> 17451.984
A20: Build cost per dwelling | C20: =1000000 * C21/C5 -> -143140.25 | D20: =$C20+D19 -> -143140.25 | E20: =$C20+E19 -> -135879.34 | F20: =$C20+F19 -> -136181.75 | G20: =$C20+G19 -> -134975.65 | H20: =$C20+H19 -> -132388.3 | I20: =$C20+I19 -> -135879.34 | J20: =$C20+J19 -> -125688.27
A21: Total build costs in 2010 prices and values | C21: -439.87 | D21: =D20*D5/1000000 -> -345.68371 | E21: =E20*E5/1000000 -> -417.55723 | F21: =F20*F5/1000000 -> -418.48653 | G21: =G20*G5/1000000 -> -325.9662 | H21: =H20*H5/1000000 -> -406.82924 | I21: =I20*I5/1000000 -> -328.14862 | J21: =J20*J5/1000000 -> -303.53717
A23: Other costs and benefits (pro-rata to number of dwellings) | C23: -48.02 | D23: =$C23*(1+D$6) -> -37.737813 | E23: =$C23*(1+E$6) -> -48.02 | F23: =$C23*(1+F$6) -> -48.02 | G23: =$C23*(1+G$6) -> -37.737813 | H23: =$C23*(1+H$6) -> -48.02 | I23: =$C23*(1+I$6) -> -37.737813 | J23: =$C23*(1+J$6) -> -37.737813
A25: LVU benefits | C25: =C15+C21+C23 -> 184.18 | D25: =D15+D21+D23 -> 144.74282 | E25: =E15+E21+E23 -> 96.520797 | F25: =F15+F21+F23 -> 100.17169 | G25: =G15+G21+G23 -> 67.279495 | H25: =H15+H21+H23 -> 54.374217 | I25: =I15+I21+I23 -> 75.853474 | J25: =J15+J21+J23 -> -20.836424
A27: CtoC Scheme Adjusted Benefits | C27: 67.67 | D27: 67.67 | E27: 67.67 | F27: 67.67 | G27: 67.67 | H27: 67.67 | I27: 67.67 | J27: 67.67
A28: Total benefits | C28: =C25+C27 -> 251.85 | D28: =D25+D27 -> 212.41282 | E28: =E25+E27 -> 164.1908 | F28: =F25+F27 -> 167.84169 | G28: =G25+G27 -> 134.94949 | H28: =H25+H27 -> 122.04422 | I28: =I25+I27 -> 143.52347 | J28: =J25+J27 -> 46.833576
A30: CtoC Scheme costs | C30: -137.96 | D30: -137.96 | E30: -137.96 | F30: -137.96 | G30: -137.96 | H30: -137.96 | I30: -137.96 | J30: -137.96
A32: CtoC Scheme Net Present Value | C32: =C28+C30 -> 113.89 | D32: =D28+D30 -> 74.452825 | E32: =E28+E30 -> 26.230797 | F32: =F28+F30 -> 29.881692 | G32: =G28+G30 -> -3.0105051 | H32: =H28+H30 -> -15.915783 | I32: =I28+I30 -> 5.5634741 | J32: =J28+J30 -> -91.126424
A33: CtoC Scheme BCR | C33: =C28/-C30 -> 1.8255291 | D33: =D28/-D30 -> 1.5396696 | E33: =E28/-E30 -> 1.1901334 | F33: =F28/-F30 -> 1.2165968 | G33: =G28/-G30 -> 0.97817842 | H33: =H28/-H30 -> 0.8846348 | I33: =I28/-I30 -> 1.0403267 | J33: =J28/-J30 -> 0.33947214

Sheet GDV
B1: Attempted reconstruction of GDV calculation | J1: Recalculation with lower house price growth | P1: Recalculation with Bourn Airfield only and lower house price growth | V1: Recalculation with nil house price growth | AB1: Recalculation with Bourn Airfield, lower house prices and nil growth
A2: Year | B2: Cambourne West | C2: Bourn Airfield | D2: Average house value in 2024 prices | E2: Value in 2010 prices | F2: Value in 2010 market prices | G2: Discounted value | H2: GDV | J2: Average house value in 2024 prices | K2: Value in 2010 prices | L2: Value in 2010 market prices | M2: Discounted value | N2: GDV | P2: Average house value in 2024 prices | Q2: Value in 2010 prices | R2: Value in 2010 market prices | S2: Discounted value | T2: GDV | V2: Average house value in 2024 prices | W2: Value in 2010 prices | X2: Value in 2010 market prices | Y2: Discounted value | Z2: GDV | AB2: Average house value in 2024 prices | AC2: Value in 2010 prices | AD2: Value in 2010 market prices | AE2: Discounted value | AF2: GDV | AH2: Discount rate | AI2: Discount factor
A3: 2024 | D3: =Summary!C9 -> 506051 | E3: =D3*Constants!$B$1/Constants!$B$2 -> 351516.36 | F3: =E3*(1+Constants!$B$3) -> 418304.47 | G3: =F3*$AI3 -> 258420.88 | H3: =($B3 + $C3) *G3 -> 0 | J3: =Summary!F9 -> 506051 | K3: =J3*Constants!$B$1/Constants!$B$2 -> 351516.36 | L3: =K3*(1+Constants!$B$3) -> 418304.47 | M3: =L3*$AI3 -> 258420.88 | N3: =($B3 + $C3) *M3 -> 0 | P3: =Summary!G9 -> 506051 | Q3: =P3*Constants!$B$1/Constants!$B$2 -> 351516.36 | R3: =Q3*(1+Constants!$B$3) -> 418304.47 | S3: =R3*$AI3 -> 258420.88 | T3: =$C3 *S3 -> 0 | V3: =Summary!H9 -> 506051 | W3: =V3*Constants!$B$1/Constants!$B$2 -> 351516.36 | X3: =W3*(1+Constants!$B$3) -> 418304.47 | Y3: =X3*$AI3 -> 258420.88 | Z3: =($B3 + $C3) *Y3 -> 0 | AB3: =Summary!J9 -> 423245 | AC3: =AB3*Constants!$B$1/Constants!$B$2 -> 293997.13 | AD3: =AC3*(1+Constants!$B$3) -> 349856.58 | AE3: =AD3*$AI3 -> 216135.03 | AF3: =$C3 *AE3 -> 0 | AH3: =IF(A3>2054,0.03,0.035) -> 0.035 | AI3: =1/1.035^(A3-2010) -> 0.61778179
A4: 2025 | D4: =D3*(1+Summary!$C$12) -> 517184.12 | E4: =D4*Constants!$B$1/Constants!$B$2 -> 359249.72 | F4: =E4*(1+Constants!$B$3) -> 427507.16 | G4: =F4*$AI4 -> 255175.02 | H4: =($B4 + $C4) *G4 -> 0 | J4: =J3*(1+Summary!$F$12) -> 510352.43 | K4: =J4*Constants!$B$1/Constants!$B$2 -> 354504.25 | L4: =K4*(1+Constants!$B$3) -> 421860.05 | M4: =L4*$AI4 -> 251804.31 | N4: =($B4 + $C4) *M4 -> 0 | P4: =P3*(1+Summary!$F$12) -> 510352.43 | Q4: =P4*Constants!$B$1/Constants!$B$2 -> 354504.25 | R4: =Q4*(1+Constants!$B$3) -> 421860.05 | S4: =R4*$AI4 -> 251804.31 | T4: =$C4 *S4 -> 0 | V4: =V3*(1+Summary!$H$12) -> 506051 | W4: =V4*Constants!$B$1/Constants!$B$2 -> 351516.36 | X4: =W4*(1+Constants!$B$3) -> 418304.47 | Y4: =X4*$AI4 -> 249682.01 | Z4: =($B4 + $C4) *Y4 -> 0 | AB4: =AB3*(1+Summary!$J$12) -> 423245 | AC4: =AB4*Constants!$B$1/Constants!$B$2 -> 293997.13 | AD4: =AC4*(1+Constants!$B$3) -> 349856.58 | AE4: =AD4*$AI4 -> 208826.11 | AF4: =$C4 *AE4 -> 0 | AH4: =IF(A4>2054,0.03,0.035) -> 0.035 | AI4: =AI3/(1+AH4) -> 0.59689062
A5: 2026 | D5: =D4*(1+Summary!$C$12) -> 528562.17 | E5: =D5*Constants!$B$1/Constants!$B$2 -> 367153.21 | F5: =E5*(1+Constants!$B$3) -> 436912.32 | G5: =F5*$AI5 -> 251969.92 | H5: =($B5 + $C5) *G5 -> 0 | J5: =J4*(1+Summary!$F$12) -> 514690.43 | K5: =J5*Constants!$B$1/Constants!$B$2 -> 357517.53 | L5: =K5*(1+Constants!$B$3) -> 425445.86 | M5: =L5*$AI5 -> 245357.15 | N5: =($B5 + $C5) *M5 -> 0 | P5: =P4*(1+Summary!$F$12) -> 514690.43 | Q5: =P5*Constants!$B$1/Constants!$B$2 -> 357517.53 | R5: =Q5*(1+Constants!$B$3) -> 425445.86 | S5: =R5*$AI5 -> 245357.15 | T5: =$C5 *S5 -> 0 | V5: =V4*(1+Summary!$H$12) -> 506051 | W5: =V5*Constants!$B$1/Constants!$B$2 -> 351516.36 | X5: =W5*(1+Constants!$B$3) -> 418304.47 | Y5: =X5*$AI5 -> 241238.66 | Z5: =($B5 + $C5) *Y5 -> 0 | AB5: =AB4*(1+Summary!$J$12) -> 423245 | AC5: =AB5*Constants!$B$1/Constants!$B$2 -> 293997.13 | AD5: =AC5*(1+Constants!$B$3) -> 349856.58 | AE5: =AD5*$AI5 -> 201764.36 | AF5: =$C5 *AE5 -> 0 | AH5: =IF(A5>2054,0.03,0.035) -> 0.035 | AI5: =AI4/(1+AH5) -> 0.57670591
A6: 2027 | D6: =D5*(1+Summary!$C$12) -> 540190.54 | E6: =D6*Constants!$B$1/Constants!$B$2 -> 375230.58 | F6: =E6*(1+Constants!$B$3) -> 446524.39 | G6: =F6*$AI6 -> 248805.08 | H6: =($B6 + $C6) *G6 -> 0 | J6: =J5*(1+Summary!$F$12) -> 519065.3 | K6: =J6*Constants!$B$1/Constants!$B$2 -> 360556.43 | L6: =K6*(1+Constants!$B$3) -> 429062.15 | M6: =L6*$AI6 -> 239075.05 | N6: =($B6 + $C6) *M6 -> 0 | P6: =P5*(1+Summary!$F$12) -> 519065.3 | Q6: =P6*Constants!$B$1/Constants!$B$2 -> 360556.43 | R6: =Q6*(1+Constants!$B$3) -> 429062.15 | S6: =R6*$AI6 -> 239075.05 | T6: =$C6 *S6 -> 0 | V6: =V5*(1+Summary!$H$12) -> 506051 | W6: =V6*Constants!$B$1/Constants!$B$2 -> 351516.36 | X6: =W6*(1+Constants!$B$3) -> 418304.47 | Y6: =X6*$AI6 -> 233080.83 | Z6: =($B6 + $C6) *Y6 -> 0 | AB6: =AB5*(1+Summary!$J$12) -> 423245 | AC6: =AB6*Constants!$B$1/Constants!$B$2 -> 293997.13 | AD6: =AC6*(1+Constants!$B$3) -> 349856.58 | AE6: =AD6*$AI6 -> 194941.41 | AF6: =$C6 *AE6 -> 0 | AH6: =IF(A6>2054,0.03,0.035) -> 0.035 | AI6: =AI5/(1+AH6) -> 0.55720378
A7: 2028 | D7: =D6*(1+Summary!$C$12) -> 552074.73 | E7: =D7*Constants!$B$1/Constants!$B$2 -> 383485.66 | F7: =E7*(1+Constants!$B$3) -> 456347.93 | G7: =F7*$AI7 -> 245679.99 | H7: =($B7 + $C7) *G7 -> 0 | J7: =J6*(1+Summary!$F$12) -> 523477.35 | K7: =J7*Constants!$B$1/Constants!$B$2 -> 363621.16 | L7: =K7*(1+Constants!$B$3) -> 432709.18 | M7: =L7*$AI7 -> 232953.81 | N7: =($B7 + $C7) *M7 -> 0 | P7: =P6*(1+Summary!$F$12) -> 523477.35 | Q7: =P7*Constants!$B$1/Constants!$B$2 -> 363621.16 | R7: =Q7*(1+Constants!$B$3) -> 432709.18 | S7: =R7*$AI7 -> 232953.81 | T7: =$C7 *S7 -> 0 | V7: =V6*(1+Summary!$H$12) -> 506051 | W7: =V7*Constants!$B$1/Constants!$B$2 -> 351516.36 | X7: =W7*(1+Constants!$B$3) -> 418304.47 | Y7: =X7*$AI7 -> 225198.87 | Z7: =($B7 + $C7) *Y7 -> 0 | AB7: =AB6*(1+Summary!$J$12) -> 423245 | AC7: =AB7*Constants!$B$1/Constants!$B$2 -> 293997.13 | AD7: =AC7*(1+Constants!$B$3) -> 349856.58 | AE7: =AD7*$AI7 -> 188349.19 | AF7: =$C7 *AE7 -> 0 | AH7: =IF(A7>2054,0.03,0.035) -> 0.035 | AI7: =AI6/(1+AH7) -> 0.53836114
A8: 2029 | D8: =D7*(1+Summary!$C$12) -> 564220.38 | E8: =D8*Constants!$B$1/Constants!$B$2 -> 391922.34 | F8: =E8*(1+Constants!$B$3) -> 466387.58 | G8: =F8*$AI8 -> 242594.16 | H8: =($B8 + $C8) *G8 -> 0 | J8: =J7*(1+Summary!$F$12) -> 527926.91 | K8: =J8*Constants!$B$1/Constants!$B$2 -> 366711.94 | L8: =K8*(1+Constants!$B$3) -> 436387.21 | M8: =L8*$AI8 -> 226989.29 | N8: =($B8 + $C8) *M8 -> 0 | P8: =P7*(1+Summary!$F$12) -> 527926.91 | Q8: =P8*Constants!$B$1/Constants!$B$2 -> 366711.94 | R8: =Q8*(1+Constants!$B$3) -> 436387.21 | S8: =R8*$AI8 -> 226989.29 | T8: =$C8 *S8 -> 0 | V8: =V7*(1+Summary!$H$12) -> 506051 | W8: =V8*Constants!$B$1/Constants!$B$2 -> 351516.36 | X8: =W8*(1+Constants!$B$3) -> 418304.47 | Y8: =X8*$AI8 -> 217583.45 | Z8: =($B8 + $C8) *Y8 -> 0 | AB8: =AB7*(1+Summary!$J$12) -> 423245 | AC8: =AB8*Constants!$B$1/Constants!$B$2 -> 293997.13 | AD8: =AC8*(1+Constants!$B$3) -> 349856.58 | AE8: =AD8*$AI8 -> 181979.89 | AF8: =$C8 *AE8 -> 0 | AH8: =IF(A8>2054,0.03,0.035) -> 0.035 | AI8: =AI7/(1+AH8) -> 0.52015569
A9: 2030 | D9: =D8*(1+Summary!$C$12) -> 576633.22 | E9: =D9*Constants!$B$1/Constants!$B$2 -> 400544.63 | F9: =E9*(1+Constants!$B$3) -> 476648.11 | G9: =F9*$AI9 -> 239547.08 | H9: =($B9 + $C9) *G9 -> 0 | J9: =J8*(1+Summary!$F$12) -> 532414.29 | K9: =J9*Constants!$B$1/Constants!$B$2 -> 369828.99 | L9: =K9*(1+Constants!$B$3) -> 440096.5 | M9: =L9*$AI9 -> 221177.49 | N9: =($B9 + $C9) *M9 -> 0 | P9: =P8*(1+Summary!$F$12) -> 532414.29 | Q9: =P9*Constants!$B$1/Constants!$B$2 -> 369828.99 | R9: =Q9*(1+Constants!$B$3) -> 440096.5 | S9: =R9*$AI9 -> 221177.49 | T9: =$C9 *S9 -> 0 | V9: =V8*(1+Summary!$H$12) -> 506051 | W9: =V9*Constants!$B$1/Constants!$B$2 -> 351516.36 | X9: =W9*(1+Constants!$B$3) -> 418304.47 | Y9: =X9*$AI9 -> 210225.55 | Z9: =($B9 + $C9) *Y9 -> 0 | AB9: =AB8*(1+Summary!$J$12) -> 423245 | AC9: =AB9*Constants!$B$1/Constants!$B$2 -> 293997.13 | AD9: =AC9*(1+Constants!$B$3) -> 349856.58 | AE9: =AD9*$AI9 -> 175825.98 | AF9: =$C9 *AE9 -> 0 | AH9: =IF(A9>2054,0.03,0.035) -> 0.035 | AI9: =AI8/(1+AH9) -> 0.50256588
A10: 2031 | B10: 150 | C10: 150 | D10: =D9*(1+Summary!$C$12) -> 589319.16 | E10: =D10*Constants!$B$1/Constants!$B$2 -> 409356.61 | F10: =E10*(1+Constants!$B$3) -> 487134.37 | G10: =F10*$AI10 -> 236538.28 | H10: =($B10 + $C10) *G10 -> 70961483 | J10: =J9*(1+Summary!$F$12) -> 536939.81 | K10: =J10*Constants!$B$1/Constants!$B$2 -> 372972.54 | L10: =K10*(1+Constants!$B$3) -> 443837.32 | M10: =L10*$AI10 -> 215514.49 | N10: =($B10 + $C10) *M10 -> 64654347 | P10: =P9*(1+Summary!$F$12) -> 536939.81 | Q10: =P10*Constants!$B$1/Constants!$B$2 -> 372972.54 | R10: =Q10*(1+Constants!$B$3) -> 443837.32 | S10: =R10*$AI10 -> 215514.49 | T10: =$C10 *S10 -> 32327173 | V10: =V9*(1+Summary!$H$12) -> 506051 | W10: =V10*Constants!$B$1/Constants!$B$2 -> 351516.36 | X10: =W10*(1+Constants!$B$3) -> 418304.47 | Y10: =X10*$AI10 -> 203116.48 | Z10: =($B10 + $C10) *Y10 -> 60934943 | AB10: =AB9*(1+Summary!$J$12) -> 423245 | AC10: =AB10*Constants!$B$1/Constants!$B$2 -> 293997.13 | AD10: =AC10*(1+Constants!$B$3) -> 349856.58 | AE10: =AD10*$AI10 -> 169880.18 | AF10: =$C10 *AE10 -> 25482027 | AH10: =IF(A10>2054,0.03,0.035) -> 0.035 | AI10: =AI9/(1+AH10) -> 0.4855709
A11: 2032 | B11: 150 | C11: 150 | D11: =D10*(1+Summary!$C$12) -> 602284.18 | E11: =D11*Constants!$B$1/Constants!$B$2 -> 418362.46 | F11: =E11*(1+Constants!$B$3) -> 497851.33 | G11: =F11*$AI11 -> 233567.26 | H11: =($B11 + $C11) *G11 -> 70070179 | J11: =J10*(1+Summary!$F$12) -> 541503.8 | K11: =J11*Constants!$B$1/Constants!$B$2 -> 376142.81 | L11: =K11*(1+Constants!$B$3) -> 447609.94 | M11: =L11*$AI11 -> 209996.49 | N11: =($B11 + $C11) *M11 -> 62998946 | P11: =P10*(1+Summary!$F$12) -> 541503.8 | Q11: =P11*Constants!$B$1/Constants!$B$2 -> 376142.81 | R11: =Q11*(1+Constants!$B$3) -> 447609.94 | S11: =R11*$AI11 -> 209996.49 | T11: =$C11 *S11 -> 31499473 | V11: =V10*(1+Summary!$H$12) -> 506051 | W11: =V11*Constants!$B$1/Constants!$B$2 -> 351516.36 | X11: =W11*(1+Constants!$B$3) -> 418304.47 | Y11: =X11*$AI11 -> 196247.8 | Z11: =($B11 + $C11) *Y11 -> 58874341 | AB11: =AB10*(1+Summary!$J$12) -> 423245 | AC11: =AB11*Constants!$B$1/Constants!$B$2 -> 293997.13 | AD11: =AC11*(1+Constants!$B$3) -> 349856.58 | AE11: =AD11*$AI11 -> 164135.44 | AF11: =$C11 *AE11 -> 24620316 | AH11: =IF(A11>2054,0.03,0.035) -> 0.035 | AI11: =AI10/(1+AH11) -> 0.46915063
A12: 2033 | B12: 150 | C12: 150 | D12: =D11*(1+Summary!$C$12) -> 615534.43 | E12: =D12*Constants!$B$1/Constants!$B$2 -> 427566.43 | F12: =E12*(1+Constants!$B$3) -> 508804.05 | G12: =F12*$AI12 -> 230633.57 | H12: =($B12 + $C12) *G12 -> 69190071 | J12: =J11*(1+Summary!$F$12) -> 546106.58 | K12: =J12*Constants!$B$1/Constants!$B$2 -> 379340.02 | L12: =K12*(1+Constants!$B$3) -> 451414.62 | M12: =L12*$AI12 -> 204619.76 | N12: =($B12 + $C12) *M12 -> 61385929 | P12: =P11*(1+Summary!$F$12) -> 546106.58 | Q12: =P12*Constants!$B$1/Constants!$B$2 -> 379340.02 | R12: =Q12*(1+Constants!$B$3) -> 451414.62 | S12: =R12*$AI12 -> 204619.76 | T12: =$C12 *S12 -> 30692965 | V12: =V11*(1+Summary!$H$12) -> 506051 | W12: =V12*Constants!$B$1/Constants!$B$2 -> 351516.36 | X12: =W12*(1+Constants!$B$3) -> 418304.47 | Y12: =X12*$AI12 -> 189611.4 | Z12: =($B12 + $C12) *Y12 -> 56883421 | AB12: =AB11*(1+Summary!$J$12) -> 423245 | AC12: =AB12*Constants!$B$1/Constants!$B$2 -> 293997.13 | AD12: =AC12*(1+Constants!$B$3) -> 349856.58 | AE12: =AD12*$AI12 -> 158584.96 | AF12: =$C12 *AE12 -> 23787744 | AH12: =IF(A12>2054,0.03,0.035) -> 0.035 | AI12: =AI11/(1+AH12) -> 0.45328563
A13: 2034 | B13: 150 | C13: 150 | D13: =D12*(1+Summary!$C$12) -> 629076.19 | E13: =D13*Constants!$B$1/Constants!$B$2 -> 436972.89 | F13: =E13*(1+Constants!$B$3) -> 519997.74 | G13: =F13*$AI13 -> 227736.72 | H13: =($B13 + $C13) *G13 -> 68321016 | J13: =J12*(1+Summary!$F$12) -> 550748.49 | K13: =J13*Constants!$B$1/Constants!$B$2 -> 382564.41 | L13: =K13*(1+Constants!$B$3) -> 455251.65 | M13: =L13*$AI13 -> 199380.71 | N13: =($B13 + $C13) *M13 -> 59814212 | P13: =P12*(1+Summary!$F$12) -> 550748.49 | Q13: =P13*Constants!$B$1/Constants!$B$2 -> 382564.41 | R13: =Q13*(1+Constants!$B$3) -> 455251.65 | S13: =R13*$AI13 -> 199380.71 | T13: =$C13 *S13 -> 29907106 | V13: =V12*(1+Summary!$H$12) -> 506051 | W13: =V13*Constants!$B$1/Constants!$B$2 -> 351516.36 | X13: =W13*(1+Constants!$B$3) -> 418304.47 | Y13: =X13*$AI13 -> 183199.43 | Z13: =($B13 + $C13) *Y13 -> 54959828 | AB13: =AB12*(1+Summary!$J$12) -> 423245 | AC13: =AB13*Constants!$B$1/Constants!$B$2 -> 293997.13 | AD13: =AC13*(1+Constants!$B$3) -> 349856.58 | AE13: =AD13*$AI13 -> 153222.19 | AF13: =$C13 *AE13 -> 22983328 | AH13: =IF(A13>2054,0.03,0.035) -> 0.035 | AI13: =AI12/(1+AH13) -> 0.43795713
A14: 2035 | B14: 58 | C14: 150 | D14: =D13*(1+Summary!$C$12) -> 642915.86 | E14: =D14*Constants!$B$1/Constants!$B$2 -> 446586.3 | F14: =E14*(1+Constants!$B$3) -> 531437.69 | G14: =F14*$AI14 -> 224876.26 | H14: =($B14 + $C14) *G14 -> 46774262 | J14: =J13*(1+Summary!$F$12) -> 555429.85 | K14: =J14*Constants!$B$1/Constants!$B$2 -> 385816.21 | L14: =K14*(1+Constants!$B$3) -> 459121.29 | M14: =L14*$AI14 -> 194275.79 | N14: =($B14 + $C14) *M14 -> 40409364 | P14: =P13*(1+Summary!$F$12) -> 555429.85 | Q14: =P14*Constants!$B$1/Constants!$B$2 -> 385816.21 | R14: =Q14*(1+Constants!$B$3) -> 459121.29 | S14: =R14*$AI14 -> 194275.79 | T14: =$C14 *S14 -> 29141369 | V14: =V13*(1+Summary!$H$12) -> 506051 | W14: =V14*Constants!$B$1/Constants!$B$2 -> 351516.36 | X14: =W14*(1+Constants!$B$3) -> 418304.47 | Y14: =X14*$AI14 -> 177004.28 | Z14: =($B14 + $C14) *Y14 -> 36816889 | AB14: =AB13*(1+Summary!$J$12) -> 423245 | AC14: =AB14*Constants!$B$1/Constants!$B$2 -> 293997.13 | AD14: =AC14*(1+Constants!$B$3) -> 349856.58 | AE14: =AD14*$AI14 -> 148040.76 | AF14: =$C14 *AE14 -> 22206114 | AH14: =IF(A14>2054,0.03,0.035) -> 0.035 | AI14: =AI13/(1+AH14) -> 0.42314699
A15: 2036 | C15: 150 | D15: =D14*(1+Summary!$C$12) -> 657060.01 | E15: =D15*Constants!$B$1/Constants!$B$2 -> 456411.2 | F15: =E15*(1+Constants!$B$3) -> 543129.32 | G15: =F15*$AI15 -> 222051.73 | H15: =($B15 + $C15) *G15 -> 33307759 | J15: =J14*(1+Summary!$F$12) -> 560151 | K15: =J15*Constants!$B$1/Constants!$B$2 -> 389095.65 | L15: =K15*(1+Constants!$B$3) -> 463023.82 | M15: =L15*$AI15 -> 189301.58 | N15: =($B15 + $C15) *M15 -> 28395237 | P15: =P14*(1+Summary!$F$12) -> 560151 | Q15: =P15*Constants!$B$1/Constants!$B$2 -> 389095.65 | R15: =Q15*(1+Constants!$B$3) -> 463023.82 | S15: =R15*$AI15 -> 189301.58 | T15: =$C15 *S15 -> 28395237 | V15: =V14*(1+Summary!$H$12) -> 506051 | W15: =V15*Constants!$B$1/Constants!$B$2 -> 351516.36 | X15: =W15*(1+Constants!$B$3) -> 418304.47 | Y15: =X15*$AI15 -> 171018.62 | Z15: =($B15 + $C15) *Y15 -> 25652794 | AB15: =AB14*(1+Summary!$J$12) -> 423245 | AC15: =AB15*Constants!$B$1/Constants!$B$2 -> 293997.13 | AD15: =AC15*(1+Constants!$B$3) -> 349856.58 | AE15: =AD15*$AI15 -> 143034.55 | AF15: =$C15 *AE15 -> 21455183 | AH15: =IF(A15>2054,0.03,0.035) -> 0.035 | AI15: =AI14/(1+AH15) -> 0.40883767
A16: 2037 | C16: 150 | D16: =D15*(1+Summary!$C$12) -> 671515.33 | E16: =D16*Constants!$B$1/Constants!$B$2 -> 466452.24 | F16: =E16*(1+Constants!$B$3) -> 555078.17 | G16: =F16*$AI16 -> 219262.67 | H16: =($B16 + $C16) *G16 -> 32889401 | J16: =J15*(1+Summary!$F$12) -> 564912.29 | K16: =J16*Constants!$B$1/Constants!$B$2 -> 392402.96 | L16: =K16*(1+Constants!$B$3) -> 466959.52 | M16: =L16*$AI16 -> 184454.73 | N16: =($B16 + $C16) *M16 -> 27668209 | P16: =P15*(1+Summary!$F$12) -> 564912.29 | Q16: =P16*Constants!$B$1/Constants!$B$2 -> 392402.96 | R16: =Q16*(1+Constants!$B$3) -> 466959.52 | S16: =R16*$AI16 -> 184454.73 | T16: =$C16 *S16 -> 27668209 | V16: =V15*(1+Summary!$H$12) -> 506051 | W16: =V16*Constants!$B$1/Constants!$B$2 -> 351516.36 | X16: =W16*(1+Constants!$B$3) -> 418304.47 | Y16: =X16*$AI16 -> 165235.39 | Z16: =($B16 + $C16) *Y16 -> 24785308 | AB16: =AB15*(1+Summary!$J$12) -> 423245 | AC16: =AB16*Constants!$B$1/Constants!$B$2 -> 293997.13 | AD16: =AC16*(1+Constants!$B$3) -> 349856.58 | AE16: =AD16*$AI16 -> 138197.63 | AF16: =$C16 *AE16 -> 20729645 | AH16: =IF(A16>2054,0.03,0.035) -> 0.035 | AI16: =AI15/(1+AH16) -> 0.39501224
A17: 2038 | C17: 150 | D17: =D16*(1+Summary!$C$12) -> 686288.67 | E17: =D17*Constants!$B$1/Constants!$B$2 -> 476714.19 | F17: =E17*(1+Constants!$B$3) -> 567289.89 | G17: =F17*$AI17 -> 216508.65 | H17: =($B17 + $C17) *G17 -> 32476297 | J17: =J16*(1+Summary!$F$12) -> 569714.04 | K17: =J17*Constants!$B$1/Constants!$B$2 -> 395738.38 | L17: =K17*(1+Constants!$B$3) -> 470928.68 | M17: =L17*$AI17 -> 179731.97 | N17: =($B17 + $C17) *M17 -> 26959796 | P17: =P16*(1+Summary!$F$12) -> 569714.04 | Q17: =P17*Constants!$B$1/Constants!$B$2 -> 395738.38 | R17: =Q17*(1+Constants!$B$3) -> 470928.68 | S17: =R17*$AI17 -> 179731.97 | T17: =$C17 *S17 -> 26959796 | V17: =V16*(1+Summary!$H$12) -> 506051 | W17: =V17*Constants!$B$1/Constants!$B$2 -> 351516.36 | X17: =W17*(1+Constants!$B$3) -> 418304.47 | Y17: =X17*$AI17 -> 159647.72 | Z17: =($B17 + $C17) *Y17 -> 23947157 | AB17: =AB16*(1+Summary!$J$12) -> 423245 | AC17: =AB17*Constants!$B$1/Constants!$B$2 -> 293997.13 | AD17: =AC17*(1+Constants!$B$3) -> 349856.58 | AE17: =AD17*$AI17 -> 133524.28 | AF17: =$C17 *AE17 -> 20028643 | AH17: =IF(A17>2054,0.03,0.035) -> 0.035 | AI17: =AI16/(1+AH17) -> 0.38165434
A18: 2039 | C18: 150 | D18: =D17*(1+Summary!$C$12) -> 701387.02 | E18: =D18*Constants!$B$1/Constants!$B$2 -> 487201.9 | F18: =E18*(1+Constants!$B$3) -> 579770.27 | G18: =F18*$AI18 -> 213789.22 | H18: =($B18 + $C18) *G18 -> 32068382 | J18: =J17*(1+Summary!$F$12) -> 574556.61 | K18: =J18*Constants!$B$1/Constants!$B$2 -> 399102.16 | L18: =K18*(1+Constants!$B$3) -> 474931.57 | M18: =L18*$AI18 -> 175130.14 | N18: =($B18 + $C18) *M18 -> 26269521 | P18: =P17*(1+Summary!$F$12) -> 574556.61 | Q18: =P18*Constants!$B$1/Constants!$B$2 -> 399102.16 | R18: =Q18*(1+Constants!$B$3) -> 474931.57 | S18: =R18*$AI18 -> 175130.14 | T18: =$C18 *S18 -> 26269521 | V18: =V17*(1+Summary!$H$12) -> 506051 | W18: =V18*Constants!$B$1/Constants!$B$2 -> 351516.36 | X18: =W18*(1+Constants!$B$3) -> 418304.47 | Y18: =X18*$AI18 -> 154249 | Z18: =($B18 + $C18) *Y18 -> 23137350 | AB18: =AB17*(1+Summary!$J$12) -> 423245 | AC18: =AB18*Constants!$B$1/Constants!$B$2 -> 293997.13 | AD18: =AC18*(1+Constants!$B$3) -> 349856.58 | AE18: =AD18*$AI18 -> 129008.97 | AF18: =$C18 *AE18 -> 19351345 | AH18: =IF(A18>2054,0.03,0.035) -> 0.035 | AI18: =AI17/(1+AH18) -> 0.36874815
A19: 2040 | C19: 150 | D19: =D18*(1+Summary!$C$12) -> 716817.53 | E19: =D19*Constants!$B$1/Constants!$B$2 -> 497920.35 | F19: =E19*(1+Constants!$B$3) -> 592525.21 | G19: =F19*$AI19 -> 211103.94 | H19: =($B19 + $C19) *G19 -> 31665591 | J19: =J18*(1+Summary!$F$12) -> 579440.34 | K19: =J19*Constants!$B$1/Constants!$B$2 -> 402494.53 | L19: =K19*(1+Constants!$B$3) -> 478968.49 | M19: =L19*$AI19 -> 170646.13 | N19: =($B19 + $C19) *M19 -> 25596920 | P19: =P18*(1+Summary!$F$12) -> 579440.34 | Q19: =P19*Constants!$B$1/Constants!$B$2 -> 402494.53 | R19: =Q19*(1+Constants!$B$3) -> 478968.49 | S19: =R19*$AI19 -> 170646.13 | T19: =$C19 *S19 -> 25596920 | V19: =V18*(1+Summary!$H$12) -> 506051 | W19: =V19*Constants!$B$1/Constants!$B$2 -> 351516.36 | X19: =W19*(1+Constants!$B$3) -> 418304.47 | Y19: =X19*$AI19 -> 149032.85 | Z19: =($B19 + $C19) *Y19 -> 22354928 | AB19: =AB18*(1+Summary!$J$12) -> 423245 | AC19: =AB19*Constants!$B$1/Constants!$B$2 -> 293997.13 | AD19: =AC19*(1+Constants!$B$3) -> 349856.58 | AE19: =AD19*$AI19 -> 124646.35 | AF19: =$C19 *AE19 -> 18696952 | AH19: =IF(A19>2054,0.03,0.035) -> 0.035 | AI19: =AI18/(1+AH19) -> 0.35627841
A20: 2041 | C20: 150 | D20: =D19*(1+Summary!$C$12) -> 732587.52 | E20: =D20*Constants!$B$1/Constants!$B$2 -> 508874.59 | F20: =E20*(1+Constants!$B$3) -> 605560.77 | G20: =F20*$AI20 -> 208452.39 | H20: =($B20 + $C20) *G20 -> 31267859 | J20: =J19*(1+Summary!$F$12) -> 584365.58 | K20: =J20*Constants!$B$1/Constants!$B$2 -> 405915.73 | L20: =K20*(1+Constants!$B$3) -> 483039.72 | M20: =L20*$AI20 -> 166276.93 | N20: =($B20 + $C20) *M20 -> 24941540 | P20: =P19*(1+Summary!$F$12) -> 584365.58 | Q20: =P20*Constants!$B$1/Constants!$B$2 -> 405915.73 | R20: =Q20*(1+Constants!$B$3) -> 483039.72 | S20: =R20*$AI20 -> 166276.93 | T20: =$C20 *S20 -> 24941540 | V20: =V19*(1+Summary!$H$12) -> 506051 | W20: =V20*Constants!$B$1/Constants!$B$2 -> 351516.36 | X20: =W20*(1+Constants!$B$3) -> 418304.47 | Y20: =X20*$AI20 -> 143993.09 | Z20: =($B20 + $C20) *Y20 -> 21598964 | AB20: =AB19*(1+Summary!$J$12) -> 423245 | AC20: =AB20*Constants!$B$1/Constants!$B$2 -> 293997.13 | AD20: =AC20*(1+Constants!$B$3) -> 349856.58 | AE20: =AD20*$AI20 -> 120431.25 | AF20: =$C20 *AE20 -> 18064688 | AH20: =IF(A20>2054,0.03,0.035) -> 0.035 | AI20: =AI19/(1+AH20) -> 0.34423035
A21: 2042 | C21: 150 | D21: =D20*(1+Summary!$C$12) -> 748704.45 | E21: =D21*Constants!$B$1/Constants!$B$2 -> 520069.83 | F21: =E21*(1+Constants!$B$3) -> 618883.1 | G21: =F21*$AI21 -> 205834.15 | H21: =($B21 + $C21) *G21 -> 30875123 | J21: =J20*(1+Summary!$F$12) -> 589332.69 | K21: =J21*Constants!$B$1/Constants!$B$2 -> 409366.02 | L21: =K21*(1+Constants!$B$3) -> 487145.56 | M21: =L21*$AI21 -> 162019.6 | N21: =($B21 + $C21) *M21 -> 24302940 | P21: =P20*(1+Summary!$F$12) -> 589332.69 | Q21: =P21*Constants!$B$1/Constants!$B$2 -> 409366.02 | R21: =Q21*(1+Constants!$B$3) -> 487145.56 | S21: =R21*$AI21 -> 162019.6 | T21: =$C21 *S21 -> 24302940 | V21: =V20*(1+Summary!$H$12) -> 506051 | W21: =V21*Constants!$B$1/Constants!$B$2 -> 351516.36 | X21: =W21*(1+Constants!$B$3) -> 418304.47 | Y21: =X21*$AI21 -> 139123.76 | Z21: =($B21 + $C21) *Y21 -> 20868564 | AB21: =AB20*(1+Summary!$J$12) -> 423245 | AC21: =AB21*Constants!$B$1/Constants!$B$2 -> 293997.13 | AD21: =AC21*(1+Constants!$B$3) -> 349856.58 | AE21: =AD21*$AI21 -> 116358.7 | AF21: =$C21 *AE21 -> 17453805 | AH21: =IF(A21>2054,0.03,0.035) -> 0.035 | AI21: =AI20/(1+AH21) -> 0.33258971
A22: 2043 | C22: 150 | D22: =D21*(1+Summary!$C$12) -> 765175.94 | E22: =D22*Constants!$B$1/Constants!$B$2 -> 531511.37 | F22: =E22*(1+Constants!$B$3) -> 632498.53 | G22: =F22*$AI22 -> 203248.79 | H22: =($B22 + $C22) *G22 -> 30487319 | J22: =J21*(1+Summary!$F$12) -> 594342.02 | K22: =J22*Constants!$B$1/Constants!$B$2 -> 412845.63 | L22: =K22*(1+Constants!$B$3) -> 491286.3 | M22: =L22*$AI22 -> 157871.27 | N22: =($B22 + $C22) *M22 -> 23680691 | P22: =P21*(1+Summary!$F$12) -> 594342.02 | Q22: =P22*Constants!$B$1/Constants!$B$2 -> 412845.63 | R22: =Q22*(1+Constants!$B$3) -> 491286.3 | S22: =R22*$AI22 -> 157871.27 | T22: =$C22 *S22 -> 23680691 | V22: =V21*(1+Summary!$H$12) -> 506051 | W22: =V22*Constants!$B$1/Constants!$B$2 -> 351516.36 | X22: =W22*(1+Constants!$B$3) -> 418304.47 | Y22: =X22*$AI22 -> 134419.09 | Z22: =($B22 + $C22) *Y22 -> 20162864 | AB22: =AB21*(1+Summary!$J$12) -> 423245 | AC22: =AB22*Constants!$B$1/Constants!$B$2 -> 293997.13 | AD22: =AC22*(1+Constants!$B$3) -> 349856.58 | AE22: =AD22*$AI22 -> 112423.86 | AF22: =$C22 *AE22 -> 16863580 | AH22: =IF(A22>2054,0.03,0.035) -> 0.035 | AI22: =AI21/(1+AH22) -> 0.32134271
A23: 2044 | C23: 150 | D23: =D22*(1+Summary!$C$12) -> 782009.81 | E23: =D23*Constants!$B$1/Constants!$B$2 -> 543204.62 | F23: =E23*(1+Constants!$B$3) -> 646413.5 | G23: =F23*$AI23 -> 200695.91 | H23: =($B23 + $C23) *G23 -> 30104387 | J23: =J22*(1+Summary!$F$12) -> 599393.93 | K23: =J23*Constants!$B$1/Constants!$B$2 -> 416354.81 | L23: =K23*(1+Constants!$B$3) -> 495462.23 | M23: =L23*$AI23 -> 153829.16 | N23: =($B23 + $C23) *M23 -> 23074374 | P23: =P22*(1+Summary!$F$12) -> 599393.93 | Q23: =P23*Constants!$B$1/Constants!$B$2 -> 416354.81 | R23: =Q23*(1+Constants!$B$3) -> 495462.23 | S23: =R23*$AI23 -> 153829.16 | T23: =$C23 *S23 -> 23074374 | V23: =V22*(1+Summary!$H$12) -> 506051 | W23: =V23*Constants!$B$1/Constants!$B$2 -> 351516.36 | X23: =W23*(1+Constants!$B$3) -> 418304.47 | Y23: =X23*$AI23 -> 129873.52 | Z23: =($B23 + $C23) *Y23 -> 19481028 | AB23: =AB22*(1+Summary!$J$12) -> 423245 | AC23: =AB23*Constants!$B$1/Constants!$B$2 -> 293997.13 | AD23: =AC23*(1+Constants!$B$3) -> 349856.58 | AE23: =AD23*$AI23 -> 108622.09 | AF23: =$C23 *AE23 -> 16293314 | AH23: =IF(A23>2054,0.03,0.035) -> 0.035 | AI23: =AI22/(1+AH23) -> 0.31047605
A24: 2045 | C24: 150 | D24: =D23*(1+Summary!$C$12) -> 799214.03 | E24: =D24*Constants!$B$1/Constants!$B$2 -> 555155.12 | F24: =E24*(1+Constants!$B$3) -> 660634.6 | G24: =F24*$AI24 -> 198175.09 | H24: =($B24 + $C24) *G24 -> 29726264 | J24: =J23*(1+Summary!$F$12) -> 604488.78 | K24: =J24*Constants!$B$1/Constants!$B$2 -> 419893.83 | L24: =K24*(1+Constants!$B$3) -> 499673.66 | M24: =L24*$AI24 -> 149890.54 | N24: =($B24 + $C24) *M24 -> 22483580 | P24: =P23*(1+Summary!$F$12) -> 604488.78 | Q24: =P24*Constants!$B$1/Constants!$B$2 -> 419893.83 | R24: =Q24*(1+Constants!$B$3) -> 499673.66 | S24: =R24*$AI24 -> 149890.54 | T24: =$C24 *S24 -> 22483580 | V24: =V23*(1+Summary!$H$12) -> 506051 | W24: =V24*Constants!$B$1/Constants!$B$2 -> 351516.36 | X24: =W24*(1+Constants!$B$3) -> 418304.47 | Y24: =X24*$AI24 -> 125481.66 | Z24: =($B24 + $C24) *Y24 -> 18822249 | AB24: =AB23*(1+Summary!$J$12) -> 423245 | AC24: =AB24*Constants!$B$1/Constants!$B$2 -> 293997.13 | AD24: =AC24*(1+Constants!$B$3) -> 349856.58 | AE24: =AD24*$AI24 -> 104948.88 | AF24: =$C24 *AE24 -> 15742332 | AH24: =IF(A24>2054,0.03,0.035) -> 0.035 | AI24: =AI23/(1+AH24) -> 0.29997686
A25: 2046 | C25: 150 | D25: =D24*(1+Summary!$C$12) -> 816796.74 | E25: =D25*Constants!$B$1/Constants!$B$2 -> 567368.54 | F25: =E25*(1+Constants!$B$3) -> 675168.56 | G25: =F25*$AI25 -> 195685.94 | H25: =($B25 + $C25) *G25 -> 29352891 | J25: =J24*(1+Summary!$F$12) -> 609626.93 | K25: =J25*Constants!$B$1/Constants!$B$2 -> 423462.93 | L25: =K25*(1+Constants!$B$3) -> 503920.88 | M25: =L25*$AI25 -> 146052.76 | N25: =($B25 + $C25) *M25 -> 21907914 | P25: =P24*(1+Summary!$F$12) -> 609626.93 | Q25: =P25*Constants!$B$1/Constants!$B$2 -> 423462.93 | R25: =Q25*(1+Constants!$B$3) -> 503920.88 | S25: =R25*$AI25 -> 146052.76 | T25: =$C25 *S25 -> 21907914 | V25: =V24*(1+Summary!$H$12) -> 506051 | W25: =V25*Constants!$B$1/Constants!$B$2 -> 351516.36 | X25: =W25*(1+Constants!$B$3) -> 418304.47 | Y25: =X25*$AI25 -> 121238.32 | Z25: =($B25 + $C25) *Y25 -> 18185748 | AB25: =AB24*(1+Summary!$J$12) -> 423245 | AC25: =AB25*Constants!$B$1/Constants!$B$2 -> 293997.13 | AD25: =AC25*(1+Constants!$B$3) -> 349856.58 | AE25: =AD25*$AI25 -> 101399.88 | AF25: =$C25 *AE25 -> 15209983 | AH25: =IF(A25>2054,0.03,0.035) -> 0.035 | AI25: =AI24/(1+AH25) -> 0.28983272
A26: 2047 | C26: 15 | D26: =D25*(1+Summary!$C$12) -> 834766.27 | E26: =D26*Constants!$B$1/Constants!$B$2 -> 579850.64 | F26: =E26*(1+Constants!$B$3) -> 690022.27 | G26: =F26*$AI26 -> 193228.05 | H26: =($B26 + $C26) *G26 -> 2898420.7 | J26: =J25*(1+Summary!$F$12) -> 614808.76 | K26: =J26*Constants!$B$1/Constants!$B$2 -> 427062.36 | L26: =K26*(1+Constants!$B$3) -> 508204.21 | M26: =L26*$AI26 -> 142313.24 | N26: =($B26 + $C26) *M26 -> 2134698.7 | P26: =P25*(1+Summary!$F$12) -> 614808.76 | Q26: =P26*Constants!$B$1/Constants!$B$2 -> 427062.36 | R26: =Q26*(1+Constants!$B$3) -> 508204.21 | S26: =R26*$AI26 -> 142313.24 | T26: =$C26 *S26 -> 2134698.7 | V26: =V25*(1+Summary!$H$12) -> 506051 | W26: =V26*Constants!$B$1/Constants!$B$2 -> 351516.36 | X26: =W26*(1+Constants!$B$3) -> 418304.47 | Y26: =X26*$AI26 -> 117138.47 | Z26: =($B26 + $C26) *Y26 -> 1757077.1 | AB26: =AB25*(1+Summary!$J$12) -> 423245 | AC26: =AB26*Constants!$B$1/Constants!$B$2 -> 293997.13 | AD26: =AC26*(1+Constants!$B$3) -> 349856.58 | AE26: =AD26*$AI26 -> 97970.902 | AF26: =$C26 *AE26 -> 1469563.5 | AH26: =IF(A26>2054,0.03,0.035) -> 0.035 | AI26: =AI25/(1+AH26) -> 0.28003161
A27: 2048 | D27: =D26*(1+Summary!$C$12) -> 853131.12 | E27: =D27*Constants!$B$1/Constants!$B$2 -> 592607.36 | F27: =E27*(1+Constants!$B$3) -> 705202.76 | G27: =F27*$AI27 -> 190801.03 | H27: =($B27 + $C27) *G27 -> 0 | J27: =J26*(1+Summary!$F$12) -> 620034.63 | K27: =J27*Constants!$B$1/Constants!$B$2 -> 430692.39 | L27: =K27*(1+Constants!$B$3) -> 512523.95 | M27: =L27*$AI27 -> 138669.47 | N27: =($B27 + $C27) *M27 -> 0 | P27: =P26*(1+Summary!$F$12) -> 620034.63 | Q27: =P27*Constants!$B$1/Constants!$B$2 -> 430692.39 | R27: =Q27*(1+Constants!$B$3) -> 512523.95 | S27: =R27*$AI27 -> 138669.47 | T27: =$C27 *S27 -> 0 | V27: =V26*(1+Summary!$H$12) -> 506051 | W27: =V27*Constants!$B$1/Constants!$B$2 -> 351516.36 | X27: =W27*(1+Constants!$B$3) -> 418304.47 | Y27: =X27*$AI27 -> 113177.27 | Z27: =($B27 + $C27) *Y27 -> 0 | AB27: =AB26*(1+Summary!$J$12) -> 423245 | AC27: =AB27*Constants!$B$1/Constants!$B$2 -> 293997.13 | AD27: =AC27*(1+Constants!$B$3) -> 349856.58 | AE27: =AD27*$AI27 -> 94657.877 | AF27: =$C27 *AE27 -> 0 | AH27: =IF(A27>2054,0.03,0.035) -> 0.035 | AI27: =AI26/(1+AH27) -> 0.27056194
A28: 2049 | D28: =D27*(1+Summary!$C$12) -> 871900.01 | E28: =D28*Constants!$B$1/Constants!$B$2 -> 605644.72 | F28: =E28*(1+Constants!$B$3) -> 720717.22 | G28: =F28*$AI28 -> 188404.49 | H28: =($B28 + $C28) *G28 -> 0 | J28: =J27*(1+Summary!$F$12) -> 625304.93 | K28: =J28*Constants!$B$1/Constants!$B$2 -> 434353.28 | L28: =K28*(1+Constants!$B$3) -> 516880.4 | M28: =L28*$AI28 -> 135119 | N28: =($B28 + $C28) *M28 -> 0 | P28: =P27*(1+Summary!$F$12) -> 625304.93 | Q28: =P28*Constants!$B$1/Constants!$B$2 -> 434353.28 | R28: =Q28*(1+Constants!$B$3) -> 516880.4 | S28: =R28*$AI28 -> 135119 | T28: =$C28 *S28 -> 0 | V28: =V27*(1+Summary!$H$12) -> 506051 | W28: =V28*Constants!$B$1/Constants!$B$2 -> 351516.36 | X28: =W28*(1+Constants!$B$3) -> 418304.47 | Y28: =X28*$AI28 -> 109350.02 | Z28: =($B28 + $C28) *Y28 -> 0 | AB28: =AB27*(1+Summary!$J$12) -> 423245 | AC28: =AB28*Constants!$B$1/Constants!$B$2 -> 293997.13 | AD28: =AC28*(1+Constants!$B$3) -> 349856.58 | AE28: =AD28*$AI28 -> 91456.886 | AF28: =$C28 *AE28 -> 0 | AH28: =IF(A28>2054,0.03,0.035) -> 0.035 | AI28: =AI27/(1+AH28) -> 0.2614125
A30: TOTALS | B30: =SUM(B3:B29) -> 658 | C30: =SUM(C3:C29) -> 2415 | H30: =SUM(H3:H29) -> 6.724367e+08 | N30: =SUM(N3:N29) -> 5.6667822e+08 | T30: =SUM(T3:T29) -> 4.3098351e+08 | Z30: =SUM(Z3:Z29) -> 5.0922345e+08 | AF30: =SUM(AF3:AF29) -> 3.2043856e+08
A31: ECA Table 4-17 | B31: =Summary!B3*Summary!C3 -> 658 | C31: =Summary!B4*Summary!C4 -> 2415 | H31: 672070000
A32: Shortfall | B32: =(B31-B30)/B31 -> 1.7277635e-16 | C32: =(C31-C30)/C31 -> 0 | H32: =(H31-H30)/H31 -> -0.00054563418

Sheet Historical growth
B1: Nominal prices | C1: CPIH-adjusted | D1: GDP-adjusted | F1: CPIH index | G1: GDP index
A2: 41821 | B2: 290515 | C2: =B2*$F3/$F2 -> 387645.02 | D2: =B2*$G3/$G2 -> 389604.52 | F2: 99.6 | G2: 77.43
A3: 45474 | B3: 424076 | C3: =B3 -> 424076 | D3: =B3 -> 424076 | F3: 132.9 | G3: 103.84
A4: Growth | B4: =B3/B2 - 1 -> 0.45973874 | C4: =C3/C2 - 1 -> 0.093980275 | D4: =D3/D2 - 1 -> 0.088478145
A5: Years | B5: =($A3-$A2) / 365.3 -> 10 | C5: =($A3-$A2) / 365.3 -> 10 | D5: =($A3-$A2) / 365.3 -> 10
A6: Annualised growth | B6: =(B3/B2)^(1/B5) - 1 -> 0.038550247 | C6: =(C3/C2)^(1/C5) - 1 -> 0.0090227289 | D6: =(D3/D2)^(1/D5) - 1 -> 0.0085140928
A8: 42064 | B8: 322820 | C8: =B8*$F9/$F8 -> 441122.51 | D8: =B8*$G9/$G8 -> 443763.6 | F8: 99.6 | G8: 77.94
A9: 45717 | B9: 430514 | C9: =B9 -> 430514 | D9: =B9 -> 430514 | F9: 136.1 | G9: 107.14
A10: Growth | B10: =B9/B8 - 1 -> 0.33360387 | C10: =C9/C8 - 1 -> -0.024048898 | D10: =D9/D8 - 1 -> -0.029857333
A11: Years | B11: =($A9-$A8) / 365.3 -> 10 | C11: =($A9-$A8) / 365.3 -> 10 | D11: =($A9-$A8) / 365.3 -> 10
A12: Annualised growth | B12: =(B9/B8)^(1/B11) - 1 -> 0.029206889 | C12: =(C9/C8)^(1/C11) - 1 -> -0.0024313189 | D12: =(D9/D8)^(1/D11) - 1 -> -0.0030266244
A14: Sources
A15: House prices | B15: https://landregistry.data.gov.uk/app/ukhpi/browse?from=1988-01-01&location=http%3A%2F%2Flandregistry.data.gov.uk%2Fid%2Fregion%2Fsouth-cambridgeshire&to=2025-06-01&lang=en
A16: CPIH | B16: https://www.ons.gov.uk/economy/inflationandpriceindices/timeseries/l55o/mm23
A17: GDP deflator | B17: https://view.officeapps.live.com/op/view.aspx?src=https%3A%2F%2Fassets.publishing.service.gov.uk%2Fmedia%2F683835149c65cc8cdbae6501%2Ftag-data-book-v2.01.xlsm&wdOrigin=BROWSELINK

Sheet Constants
A1: GDP deflator index in 2010 | B1: 72.13
A2: GDP deflator index in 2024 | B2: 103.84
A3: Market price adjustment factor | B3: 0.19
